BEGIN:VCALENDAR
VERSION:2.0
PRODID:-//ComplianZen - ECPv5.9.1//NONSGML v1.0//EN
CALSCALE:GREGORIAN
METHOD:PUBLISH
X-WR-CALNAME:ComplianZen
X-ORIGINAL-URL:https://complianzen.com
X-WR-CALDESC:Eventos para ComplianZen
BEGIN:VTIMEZONE
TZID:UTC
BEGIN:STANDARD
TZOFFSETFROM:+0000
TZOFFSETTO:+0000
TZNAME:UTC
DTSTART:20200101T000000
END:STANDARD
END:VTIMEZONE
BEGIN:VEVENT
DTSTART;TZID=UTC:20201014T083000
DTEND;TZID=UTC:20201015T180000
DTSTAMP:20260422T101311
CREATED:20200714T175905Z
LAST-MODIFIED:20200721T155223Z
UID:1451-1602664200-1602784800@complianzen.com
SUMMARY:Implementación y gestión del Sistema de Control Interno de Compliance
DESCRIPTION:16 horas de Formación práctica para analizar en detalle y trabajar sobre:· Aportaciones de ISO 19600\, UNE 19601\, RD 424/2017 en materia de control interno· Metodología COSO· Matriz de Riesgos· Evaluación de Key Performance Indicators (KPI)· Diagnóstico y establecimiento de mecanismos de prevención\, gestión\, control yreacción· Transmisión de la cultura de control interno a través de comunicación\, capacitacióny motivación
URL:https://complianzen.com/evento/taller-sistema-control-compliance/
LOCATION:Oficinas Interlawyers Formación\, Paseo del Pintor Rosales\, 38\, Madrid\, Madrid\, 28008\, España
CATEGORIES:Taller
ATTACH;FMTTYPE=image/png:https://complianzen.com/wp-content/uploads/2020/07/Captura-de-pantalla-2020-07-14-a-las-19.57.45.png
ORGANIZER;CN="Interlawyers":MAILTO:info@interlw.com
END:VEVENT
END:VCALENDAR